BEGIN:VCALENDAR
VERSION:2.0
PRODID:-//eventon.com NONSGML v1.0//EN
CALSCALE:GREGORIAN
METHOD:PUBLISH
BEGIN:VEVENT
UID:69e5327fc1c9b
DTSTAMP:20260419T195231Z
DTSTART:20250329T071100Z
DTEND:20250329T071100Z
LOCATION:
SUMMARY:sfdsfds
DESCRIPTION:\nhttps://dev2.myeventon.com/events/sfdsfds/
URL:https://dev2.myeventon.com/events/sfdsfds/
END:VEVENT
END:VCALENDAR