BEGIN:VCALENDAR
VERSION:2.0
PRODID:-//eventon.com NONSGML v1.0//EN
CALSCALE:GREGORIAN
METHOD:PUBLISH
BEGIN:VEVENT
UID:69e9df201936f
DTSTAMP:20260423T085808Z
DTSTART:20250501T184800Z
DTEND:20250501T184800Z
LOCATION:
SUMMARY:Rep
DESCRIPTION:\nhttps://dev2.myeventon.com/events/rep-10/var/ri-1.l-L1
URL:https://dev2.myeventon.com/events/rep-10/var/ri-1.l-L1
END:VEVENT
END:VCALENDAR