BEGIN:VCALENDAR
VERSION:2.0
PRODID:-//eventon.com NONSGML v1.0//EN
CALSCALE:GREGORIAN
METHOD:PUBLISH
BEGIN:VEVENT
UID:69e4dc2da8a51
DTSTAMP:20260419T134413Z
DTSTART:20250429T221800Z
DTEND:20250429T221800Z
LOCATION:
SUMMARY:dfdf
DESCRIPTION:\nhttps://dev2.myeventon.com/events/dfdf-2/
URL:https://dev2.myeventon.com/events/dfdf-2/
END:VEVENT
END:VCALENDAR