BEGIN:VCALENDAR
VERSION:2.0
PRODID:-//eventon.com NONSGML v1.0//EN
CALSCALE:GREGORIAN
METHOD:PUBLISH
BEGIN:VEVENT
UID:69e7ec9480601
DTSTAMP:20260421T213100Z
DTSTART:20250731T200300Z
DTEND:20250731T200300Z
LOCATION:
SUMMARY:Schedule
DESCRIPTION:\nhttps://dev2.myeventon.com/events/schedule-3/
URL:https://dev2.myeventon.com/events/schedule-3/
END:VEVENT
END:VCALENDAR