BEGIN:VCALENDAR
VERSION:2.0
PRODID:-//eventon.com NONSGML v1.0//EN
CALSCALE:GREGORIAN
METHOD:PUBLISH
BEGIN:VEVENT
UID:69eb58a8e84ad
DTSTAMP:20260424T114856Z
DTSTART:20250731T123600Z
DTEND:20250731T123600Z
LOCATION:
SUMMARY:Seats
DESCRIPTION:\nhttps://dev2.myeventon.com/events/seats-21/
URL:https://dev2.myeventon.com/events/seats-21/
END:VEVENT
END:VCALENDAR