BEGIN:VCALENDAR
VERSION:2.0
PRODID:-//eventon.com NONSGML v1.0//EN
CALSCALE:GREGORIAN
METHOD:PUBLISH
BEGIN:VEVENT
UID:69e6358af2b9f
DTSTAMP:20260420T141746Z
DTSTART:20250514T170000Z
DTEND:20250514T170000Z
LOCATION:
SUMMARY:test 1
DESCRIPTION:test 1\nhttps://dev2.myeventon.com/events/test-1/
URL:https://dev2.myeventon.com/events/test-1/
END:VEVENT
END:VCALENDAR