BEGIN:VCALENDAR
VERSION:2.0
PRODID:-//eventon.com NONSGML v1.0//EN
CALSCALE:GREGORIAN
METHOD:PUBLISH
BEGIN:VEVENT
UID:69e4ca40abb04
DTSTAMP:20260419T122744Z
DTSTART:20250721
DTEND:20250722
LOCATION:https://google.com
SUMMARY:Test123123
DESCRIPTION:Event Details\nhttps://google.com
URL:https://google.com
END:VEVENT
END:VCALENDAR