BEGIN:VCALENDAR
VERSION:2.0
PRODID:-//eventon.com NONSGML v1.0//EN
CALSCALE:GREGORIAN
METHOD:PUBLISH
BEGIN:VEVENT
UID:69e8d7a9d2e84
DTSTAMP:20260422T141401Z
DTSTART:20250630T130000Z
DTEND:20250630T130000Z
LOCATION:
SUMMARY:Test
DESCRIPTION:Test\nhttps://dev2.myeventon.com/events/test-31/
URL:https://dev2.myeventon.com/events/test-31/
END:VEVENT
END:VCALENDAR