BEGIN:VCALENDAR
VERSION:2.0
PRODID:-//eventon.com NONSGML v1.0//EN
CALSCALE:GREGORIAN
METHOD:PUBLISH
BEGIN:VEVENT
UID:69e9deee4bdc1
DTSTAMP:20260423T085718Z
DTSTART:20250731T100300Z
DTEND:20250731T100300Z
LOCATION:
SUMMARY:Tickets
DESCRIPTION:\nhttps://dev2.myeventon.com/events/tickets/
URL:https://dev2.myeventon.com/events/tickets/
END:VEVENT
END:VCALENDAR