BEGIN:VCALENDAR
VERSION:2.0
PRODID:-//eventon.com NONSGML v1.0//EN
CALSCALE:GREGORIAN
METHOD:PUBLISH
BEGIN:VEVENT
UID:69e9862b96469
DTSTAMP:20260423T023835Z
DTSTART:20250730T221200Z
DTEND:20250730T225900Z
LOCATION:
SUMMARY:Test
DESCRIPTION:\nhttps://dev2.myeventon.com/events/test-2/
URL:https://dev2.myeventon.com/events/test-2/
END:VEVENT
END:VCALENDAR