BEGIN:VCALENDAR
VERSION:2.0
PRODID:-//eventon.com NONSGML v1.0//EN
CALSCALE:GREGORIAN
METHOD:PUBLISH
BEGIN:VEVENT
UID:69eaf7a9091a0
DTSTAMP:20260424T045505Z
DTSTART:20250831T165600Z
DTEND:20250831T165600Z
LOCATION:
SUMMARY:Seats
DESCRIPTION:\nhttps://dev2.myeventon.com/events/seats/
URL:https://dev2.myeventon.com/events/seats/
END:VEVENT
END:VCALENDAR