BEGIN:VCALENDAR
VERSION:2.0
PRODID:-//eventon.com NONSGML v1.0//EN
CALSCALE:GREGORIAN
METHOD:PUBLISH
BEGIN:VEVENT
UID:69e79a009dc99
DTSTAMP:20260421T153840Z
DTSTART:20250930T213100Z
DTEND:20250930T213100Z
LOCATION:
SUMMARY:Seats
DESCRIPTION:\nhttps://dev2.myeventon.com/events/seats-9/
URL:https://dev2.myeventon.com/events/seats-9/
END:VEVENT
END:VCALENDAR