BEGIN:VCALENDAR
VERSION:2.0
PRODID:-//eventon.com NONSGML v1.0//EN
CALSCALE:GREGORIAN
METHOD:PUBLISH
BEGIN:VEVENT
UID:69e74a12310dc
DTSTAMP:20260421T095738Z
DTSTART:20251024T150000Z
DTEND:20251024T160000Z
LOCATION:
SUMMARY:Storytime
DESCRIPTION:Test Testtesttest\nhttps://dev2.myeventon.com/events/storytime/
URL:https://dev2.myeventon.com/events/storytime/
END:VEVENT
END:VCALENDAR