BEGIN:VCALENDAR
VERSION:2.0
PRODID:-//eventon.com NONSGML v1.0//EN
CALSCALE:GREGORIAN
METHOD:PUBLISH
BEGIN:VEVENT
UID:69ead8bb9e65a
DTSTAMP:20260424T024307Z
DTSTART:20251231T112500Z
DTEND:20251231T112500Z
LOCATION:
SUMMARY:Seats
DESCRIPTION:\nhttps://dev2.myeventon.com/events/seats-15/
URL:https://dev2.myeventon.com/events/seats-15/
END:VEVENT
END:VCALENDAR