BEGIN:VCALENDAR
VERSION:2.0
PRODID:-//eventon.com NONSGML v1.0//EN
CALSCALE:GREGORIAN
METHOD:PUBLISH
BEGIN:VEVENT
UID:69e6425e64e8a
DTSTAMP:20260420T151230Z
DTSTART:20260331T100500Z
DTEND:20260403T100500Z
LOCATION:
SUMMARY:Repeat
DESCRIPTION:\nhttps://dev2.myeventon.com/events/repeat-7/var/ri-32.l-L1
URL:https://dev2.myeventon.com/events/repeat-7/var/ri-32.l-L1
END:VEVENT
END:VCALENDAR