BEGIN:VCALENDAR
VERSION:2.0
PRODID:-//eventon.com NONSGML v1.0//EN
CALSCALE:GREGORIAN
METHOD:PUBLISH
BEGIN:VEVENT
UID:69ebb71a5441a
DTSTAMP:20260424T183154Z
DTSTART:20260420T093900Z
DTEND:20260420T093900Z
LOCATION:
SUMMARY:Tickets
DESCRIPTION:\nhttps://dev2.myeventon.com/events/tickets-7/var/ri-11.l-L1
URL:https://dev2.myeventon.com/events/tickets-7/var/ri-11.l-L1
END:VEVENT
END:VCALENDAR