BEGIN:VCALENDAR
VERSION:2.0
PRODID:-//eventon.com NONSGML v1.0//EN
CALSCALE:GREGORIAN
METHOD:PUBLISH
BEGIN:VEVENT
UID:69e4db5edeb69
DTSTAMP:20260419T134046Z
DTSTART:20261020T093900Z
DTEND:20261020T093900Z
LOCATION:
SUMMARY:Tickets
DESCRIPTION:\nhttps://dev2.myeventon.com/events/tickets-7/var/ri-17.l-L1
URL:https://dev2.myeventon.com/events/tickets-7/var/ri-17.l-L1
END:VEVENT
END:VCALENDAR