BEGIN:VCALENDAR
VERSION:2.0
PRODID:-//eventon.com NONSGML v1.0//EN
CALSCALE:GREGORIAN
METHOD:PUBLISH
BEGIN:VEVENT
UID:69eab7485db6d
DTSTAMP:20260424T002024Z
DTSTART:20260403T095200Z
DTEND:20260403T095200Z
LOCATION:
SUMMARY:Repeat
DESCRIPTION:\nhttps://dev2.myeventon.com/events/repeat-8/var/ri-4.l-L1
URL:https://dev2.myeventon.com/events/repeat-8/var/ri-4.l-L1
END:VEVENT
END:VCALENDAR