BEGIN:VCALENDAR
VERSION:2.0
PRODID:-//eventon.com NONSGML v1.0//EN
CALSCALE:GREGORIAN
METHOD:PUBLISH
BEGIN:VEVENT
UID:69ebb73ab799c
DTSTAMP:20260424T183226Z
DTSTART:20260429T230500Z
DTEND:20260429T230500Z
LOCATION:
SUMMARY:Tickets123
DESCRIPTION:\nhttps://dev2.myeventon.com/events/tickets123/
URL:https://dev2.myeventon.com/events/tickets123/
END:VEVENT
END:VCALENDAR