BEGIN:VCALENDAR
VERSION:2.0
PRODID:-//eventon.com NONSGML v1.0//EN
CALSCALE:GREGORIAN
METHOD:PUBLISH
BEGIN:VEVENT
UID:69ea5c1e989b5
DTSTAMP:20260423T175126Z
DTSTART:20260429T222800Z
DTEND:20260429T222800Z
LOCATION:
SUMMARY:Assigned test
DESCRIPTION:\nhttps://dev2.myeventon.com/events/assigned-test/
URL:https://dev2.myeventon.com/events/assigned-test/
END:VEVENT
END:VCALENDAR